BEGIN:VCALENDAR
VERSION:2.0
PRODID:-//ACXPA Events - ECPv6.15.18//NONSGML v1.0//EN
CALSCALE:GREGORIAN
METHOD:PUBLISH
X-WR-CALNAME:ACXPA Events
X-ORIGINAL-URL:https://shop.acxpa.com.au
X-WR-CALDESC:Events for ACXPA Events
REFRESH-INTERVAL;VALUE=DURATION:PT1H
X-Robots-Tag:noindex
X-PUBLISHED-TTL:PT1H
BEGIN:VTIMEZONE
TZID:Australia/Melbourne
BEGIN:STANDARD
TZOFFSETFROM:+1100
TZOFFSETTO:+1000
TZNAME:AEST
DTSTART:20220402T160000
END:STANDARD
BEGIN:DAYLIGHT
TZOFFSETFROM:+1000
TZOFFSETTO:+1100
TZNAME:AEDT
DTSTART:20221001T160000
END:DAYLIGHT
BEGIN:STANDARD
TZOFFSETFROM:+1100
TZOFFSETTO:+1000
TZNAME:AEST
DTSTART:20230401T160000
END:STANDARD
BEGIN:DAYLIGHT
TZOFFSETFROM:+1000
TZOFFSETTO:+1100
TZNAME:AEDT
DTSTART:20230930T160000
END:DAYLIGHT
BEGIN:STANDARD
TZOFFSETFROM:+1100
TZOFFSETTO:+1000
TZNAME:AEST
DTSTART:20240406T160000
END:STANDARD
BEGIN:DAYLIGHT
TZOFFSETFROM:+1000
TZOFFSETTO:+1100
TZNAME:AEDT
DTSTART:20241005T160000
END:DAYLIGHT
BEGIN:STANDARD
TZOFFSETFROM:+1100
TZOFFSETTO:+1000
TZNAME:AEST
DTSTART:20250405T160000
END:STANDARD
BEGIN:DAYLIGHT
TZOFFSETFROM:+1000
TZOFFSETTO:+1100
TZNAME:AEDT
DTSTART:20251004T160000
END:DAYLIGHT
BEGIN:STANDARD
TZOFFSETFROM:+1100
TZOFFSETTO:+1000
TZNAME:AEST
DTSTART:20260404T160000
END:STANDARD
BEGIN:DAYLIGHT
TZOFFSETFROM:+1000
TZOFFSETTO:+1100
TZNAME:AEDT
DTSTART:20261003T160000
END:DAYLIGHT
END:VTIMEZONE
BEGIN:VEVENT
DTSTART;TZID=Australia/Melbourne:20250227T090000
DTEND;TZID=Australia/Melbourne:20250228T160000
DTSTAMP:20260422T052727
CREATED:20241210T115038Z
LAST-MODIFIED:20241210T115341Z
UID:10000387-1740646800-1740758400@shop.acxpa.com.au
SUMMARY:CMO ANZ Summit February 2025
DESCRIPTION:Marcus Evans is excited to announce that the prestigious CMO ANZ Summit 2025 will take place at The Star Gold Coast from February 27 to February 28\, 2025! \nThis invitation-only event will gather leading marketing executives\, innovative agencies\, and solution providers to address key marketing challenges and share progressive strategies. \nThe CMO Summit is designed to foster collaboration and knowledge sharing among industry pioneers. \nAttendees will engage in dynamic discussions on essential topics\, including enhancing brand credibility\, promoting sustainability in marketing\, and leveraging digital transformation for personalized customer experiences. \nThis year\, the summit will feature an impressive lineup of speakers\, including: \n\nBronwyn Heys\, CEO of AMI\nAnthony Dever\, Head of Creative & Brand at TikTok\nLibby Hodgson\, CMO of UNICEF\nJoanne Woo\, Global VP\, Division Head of Marketing & Communications at ABB\nKarmin Jah Jah\, Head of Marketing – APAC at Amazon Web Services\nSabrina Douglas\, Head of Marketing at Big W\n\nThese thought leaders will share their insights and experiences\, providing valuable perspectives on the evolving marketing landscape. \nLocated in the heart of Broadbeach\, The Star Gold Coast offers a stunning backdrop for this premier event\, featuring world-class facilities and exceptional service. \nParticipants will have the opportunity to network with top professionals\, gain valuable insights from expert speakers\, and explore the latest trends shaping the marketing landscape. \nInterested marketing executives and agencies are encouraged to secure their spots early to ensure participation in this transformative experience. Enquire today! \nTo enquire about the CMO ANZ Summit please visit: https://tinyurl.com/y2bc329w \nFor more information\, please contact Stavros Karelidis at stavroska@marcusevanscy.com or call at +35722849378 \nAbout marcus evans: The marcus evans group is a global\, multifaceted media and corporate marketing company with over 40 years of experience in producing premium business events. We are dedicated to providing market-leading intelligence and networking opportunities across diverse industries.
URL:https://shop.acxpa.com.au/event/cmo-anz-summit-february-2025/
LOCATION:The Star Gold Coast\, 1 Casino Drive\, Broadbeach\, Queensland\, 4218\, Australia
CATEGORIES:Conference,Industry Event (in-person)
ATTACH;FMTTYPE=image/jpeg:https://shop.acxpa.com.au/wp-content/uploads/2024/12/CMO-Summit-2025.jpg
END:VEVENT
BEGIN:VEVENT
DTSTART;TZID=Australia/Melbourne:20240808T080000
DTEND;TZID=Australia/Melbourne:20240809T170000
DTSTAMP:20260422T052727
CREATED:20240524T030656Z
LAST-MODIFIED:20240524T031116Z
UID:10000292-1723104000-1723222800@shop.acxpa.com.au
SUMMARY:Chief Marketing Officer Summit 2024
DESCRIPTION:Chief Marketing Officer Summit 2024\nWe are excited to announce that the CMO Summit returns on August 8 th to 9 th 2024! \nThe CMO Summit is an invitation-only\, premium Summit bringing Chief Marketing Officers and innovative\nsuppliers and solution providers together. \nPeer-driven content over 2 action-packed days with an exceptional panel of speakers. \nThe CMO Summit provides a platform that helps Australia’s leading marketing executives evaluate\nand partner with relevant agencies and solution providers\, while we connect innovative marketing\ncompanies with these chief marketers. \nClick here to learn more  or contact Stavros Karelidis directly at\nstavroska@marcusevanscy.com or by phone at 0035722849378.
URL:https://shop.acxpa.com.au/event/chief-marketing-officer-summit-2024/
LOCATION:The Star Gold Coast\, 1 Casino Drive\, Broadbeach\, Queensland\, 4218\, Australia
CATEGORIES:Conference
ATTACH;FMTTYPE=image/png:https://shop.acxpa.com.au/wp-content/uploads/2024/05/CMO-ANZ-August-2024-Social-Media-Banner-1200x630-1.png
END:VEVENT
BEGIN:VEVENT
DTSTART;TZID=Australia/Melbourne:20240220T090000
DTEND;TZID=Australia/Melbourne:20240220T170000
DTSTAMP:20260422T052727
CREATED:20240110T004453Z
LAST-MODIFIED:20240429T090602Z
UID:10000218-1708419600-1708448400@shop.acxpa.com.au
SUMMARY:CMO Summit 2024
DESCRIPTION:CMO Summit 2024\nWe are excited to announce that the CMO Summit returns on February 20-21\, 2024! \nThe CMO Summit is an invitation-only\, premium Summit bringing Chief Marketing Officers and innovative\nsuppliers and solution providers together. \nRenowned Marketing Leaders such as Angela Greenwood – CMO (Youi Insurance)\, Astrud Burgess – CMO (ANZ Group) and many more will speak and address contemporary marketing topics such as Marketing ROI\, Data Analytics and AI Integration. \nACXPA is a proud media partner for this event! \nFor information about the event\, click the button below or directly contact Stavros Karelidis at stavroska@marcusevanscy.com
URL:https://shop.acxpa.com.au/event/cmo-summit-2024/
LOCATION:The Star Gold Coast\, 1 Casino Drive\, Broadbeach\, Queensland\, 4218\, Australia
CATEGORIES:Conference,Training Courses
ATTACH;FMTTYPE=image/png:https://shop.acxpa.com.au/wp-content/uploads/2024/01/Social-Media-Banner-CMO-Summit-2024.png
END:VEVENT
BEGIN:VEVENT
DTSTART;TZID=Australia/Melbourne:20230803T090000
DTEND;TZID=Australia/Melbourne:20230804T170000
DTSTAMP:20260422T052727
CREATED:20230526T061411Z
LAST-MODIFIED:20230526T061627Z
UID:10000127-1691053200-1691168400@shop.acxpa.com.au
SUMMARY:CMO Summit (August 2023)
DESCRIPTION:We are excited to announce that the Chief Marketing Officer/CMO Summit returns once again! \nThe CMO August 2023 Summit is an invitation-only\, premium forum bringing together leading marketing executives\, innovative agencies and solution providers. \nThe summit’s content is aligned with key marketing challenges and interests\, relevant market developments\, and practical\, progressive ideas and strategies adopted by successful pioneers. \nThe Summit provides a highly focused and interactive atmosphere to address and gain solutions specific to the core concerns of individual attendees. \nKey Topics for 2023: \n–           EFFICIENCY MEETS IMPACT\n–          DEEP INSIGHTS\, DEEPER LOYALTY\n–          INNOVATION AT ITS ESSENCE\n–          COMPELLING STORIES\, LASTING IMPRESSIONS\n–          REACHING NEW HEIGHTS\n–          AMPLIFYING SHARED VALUES \nNotable Speakers 2023: \n–           Phoebe Miller\, CMO – Made Group\n–           Liana Dubois\, CMO – Nine\n–           Tamara Howe\, CMO – SunRice\n–           Ryan Gracie\, CMO – MyDeal.com.au\n–          Nick Emery\, Former Chief Customer & Digital Officer – Crown Resorts\n–          Anubha Sahasrabuddhe\, Chief Growth Officer – Lion \n+25 more notable speakers! \nRegister your interest here or directly contact Stavros Karelidis at stavroska@marcusevanscy.com or call at +357 22849378.
URL:https://shop.acxpa.com.au/event/cmo-summit-august-2023/
LOCATION:The Star Gold Coast\, 1 Casino Drive\, Broadbeach\, Queensland\, 4218\, Australia
CATEGORIES:Conference
ATTACH;FMTTYPE=image/png:https://shop.acxpa.com.au/wp-content/uploads/2023/05/ACXPA-Event-Banner-1200x630-1.png
END:VEVENT
END:VCALENDAR