BEGIN:VCALENDAR
VERSION:2.0
PRODID:-//ACXPA Events - ECPv6.15.18//NONSGML v1.0//EN
CALSCALE:GREGORIAN
METHOD:PUBLISH
X-ORIGINAL-URL:https://shop.acxpa.com.au
X-WR-CALDESC:Events for ACXPA Events
REFRESH-INTERVAL;VALUE=DURATION:PT1H
X-Robots-Tag:noindex
X-PUBLISHED-TTL:PT1H
BEGIN:VTIMEZONE
TZID:Australia/Melbourne
BEGIN:STANDARD
TZOFFSETFROM:+1100
TZOFFSETTO:+1000
TZNAME:AEST
DTSTART:20240406T160000
END:STANDARD
BEGIN:DAYLIGHT
TZOFFSETFROM:+1000
TZOFFSETTO:+1100
TZNAME:AEDT
DTSTART:20241005T160000
END:DAYLIGHT
BEGIN:STANDARD
TZOFFSETFROM:+1100
TZOFFSETTO:+1000
TZNAME:AEST
DTSTART:20250405T160000
END:STANDARD
BEGIN:DAYLIGHT
TZOFFSETFROM:+1000
TZOFFSETTO:+1100
TZNAME:AEDT
DTSTART:20251004T160000
END:DAYLIGHT
BEGIN:STANDARD
TZOFFSETFROM:+1100
TZOFFSETTO:+1000
TZNAME:AEST
DTSTART:20260404T160000
END:STANDARD
BEGIN:DAYLIGHT
TZOFFSETFROM:+1000
TZOFFSETTO:+1100
TZNAME:AEDT
DTSTART:20261003T160000
END:DAYLIGHT
END:VTIMEZONE
BEGIN:VEVENT
DTSTART;TZID=Australia/Melbourne:20250716T120000
DTEND;TZID=Australia/Melbourne:20250716T123000
DTSTAMP:20260422T082052
CREATED:20250714T021549Z
LAST-MODIFIED:20250714T021549Z
UID:10000480-1752667200-1752669000@shop.acxpa.com.au
SUMMARY:CX and Growth: Building a Strategy for Australia’s Migrant Customers
DESCRIPTION:Join TransPerfect’s Claire Mullins with guests Edwina Olver\, Experience Director at Untangld and Emily Bayford\, Contact Centre Consultant for an insightful webinar exploring the world of CX and customer channels with a special focus on Australia’s migrant customers. \nDiscover the latest insights into Australia’s diverse landscape\, unpack the unique challenges and opportunities of connecting with customers in their native language across channels\, and gain valuable advice on creating an effective CX strategy for this growing segment. \nElevate your understanding of this audience\, and how to drive access\, loyalty and growth. Reserve your spot now and transform your CX approach! \nKey Takeaways: \n\nHow the approach to CX is evolving to meet current customer expectations\nHow to approach CX strategies for migrant Australians\nEngaging customers in their native language at critical points in the customer journey including the contact centre\nHow the correct strategy can drive access\, loyalty and growth
URL:https://shop.acxpa.com.au/event/cx-and-growth-building-a-strategy-for-australias-migrant-customers/
LOCATION:Live Stream
CATEGORIES:Webinars
ATTACH;FMTTYPE=image/jpeg:https://shop.acxpa.com.au/wp-content/uploads/2025/07/CX-and-Growth-Migrant-Customers.jpg
END:VEVENT
BEGIN:VEVENT
DTSTART;TZID=Australia/Melbourne:20250212T170000
DTEND;TZID=Australia/Melbourne:20250212T174500
DTSTAMP:20260422T082052
CREATED:20250211T000416Z
LAST-MODIFIED:20250211T000738Z
UID:10000431-1739379600-1739382300@shop.acxpa.com.au
SUMMARY:Generative AI in the Contact Centre: Automating Multilingual Customer Engagement
DESCRIPTION:Unlock the Power of Multilingual Solutions using AI\nCome join an insightful discussion with TransPerfect’s Head of Generative AI Diego Bartolome and Director\, Business Development Claire Mullins on contact centre automation and multilingual customer engagement. \nBalancing excellent non-English speaker customer experience with cost to serve is a reality facing contact centres across Australia today. \nLearn more about building informed use cases\, de-risking AI in low-level interactions\, professional interpreters for high-risk interactions and how introducing automation can enhance operations and experience.
URL:https://shop.acxpa.com.au/event/gen-ai-multilingual/
LOCATION:Live Stream
CATEGORIES:Webinars
ATTACH;FMTTYPE=image/png:https://shop.acxpa.com.au/wp-content/uploads/2025/02/TP-Generative-AI-in-CC-Webinar_Social_2.12.25.png
END:VEVENT
END:VCALENDAR