BEGIN:VCALENDAR
VERSION:2.0
PRODID:-//ACXPA Events - ECPv6.15.18//NONSGML v1.0//EN
CALSCALE:GREGORIAN
METHOD:PUBLISH
X-ORIGINAL-URL:https://shop.acxpa.com.au
X-WR-CALDESC:Events for ACXPA Events
REFRESH-INTERVAL;VALUE=DURATION:PT1H
X-Robots-Tag:noindex
X-PUBLISHED-TTL:PT1H
BEGIN:VTIMEZONE
TZID:Australia/Melbourne
BEGIN:STANDARD
TZOFFSETFROM:+1100
TZOFFSETTO:+1000
TZNAME:AEST
DTSTART:20220402T160000
END:STANDARD
BEGIN:DAYLIGHT
TZOFFSETFROM:+1000
TZOFFSETTO:+1100
TZNAME:AEDT
DTSTART:20221001T160000
END:DAYLIGHT
BEGIN:STANDARD
TZOFFSETFROM:+1100
TZOFFSETTO:+1000
TZNAME:AEST
DTSTART:20230401T160000
END:STANDARD
BEGIN:DAYLIGHT
TZOFFSETFROM:+1000
TZOFFSETTO:+1100
TZNAME:AEDT
DTSTART:20230930T160000
END:DAYLIGHT
BEGIN:STANDARD
TZOFFSETFROM:+1100
TZOFFSETTO:+1000
TZNAME:AEST
DTSTART:20240406T160000
END:STANDARD
BEGIN:DAYLIGHT
TZOFFSETFROM:+1000
TZOFFSETTO:+1100
TZNAME:AEDT
DTSTART:20241005T160000
END:DAYLIGHT
END:VTIMEZONE
BEGIN:VEVENT
DTSTART;TZID=Australia/Melbourne:20230808T083000
DTEND;TZID=Australia/Melbourne:20230808T163000
DTSTAMP:20260422T084016
CREATED:20230727T235447Z
LAST-MODIFIED:20231113T095113Z
UID:10000171-1691483400-1691512200@shop.acxpa.com.au
SUMMARY:livepro Forum 2023 Perth
DESCRIPTION:livepro Forum 2023\nThe registrations for livepro Forums 2023 are now officially open! This year\, we’re taking the event to multiple locations across Australia\, creating an opportunity to connect face-to-face for the first time in a few years! \nWhether you are already a part of the livepro community or exploring livepro’s offerings\, we warmly welcome you to join us for the day to learn\, share\, and collaborate on everything livepro has to offer. We also encourage you to bring along your colleagues from other departments that might be interested in expanding livepro to their team. \nThe agenda:\nWe’ve crafted an engaging interactive agenda for the livepro Forums 2023! The day will include guest speakers from livepro specialists in industries such as Local Government\, superannuation\, and insurance. In addition\, there will be: \n\nA deep-dive into the livepro roadmap including the latest developments;\nNetworking activities and a chance to engage with industry professionals;\nKnowledge management best practice tips to optimise your CX results;\nAnnouncing the livepro Awards 2023 winners and their achievements;\nand a livepro panelist Q&A session to cover off all the hot topics from integrations\, AI tools\, and cyber security.\n\nWe can’t wait to see you in Sydney\, Brisbane\, Melbourne\, Adelaide\, and Perth\, so be sure to get in early by registering below: \nSydney – 26 July 2023\, Wednesday| Kirribilli Club\nBrisbane – 27 July 2023\, Thursday | Marriott\nMelbourne – 1 August 2023\, Tuesday | Collins Square Event Centre\nAdelaide – 3rd August 2023\, Thursday | Stamford Plaza\nPerth – 8 August 2023\, Tuesday | Fraser Suites \nLearn more and book via the link below.
URL:https://shop.acxpa.com.au/event/livepro-forum-2023-perth/
LOCATION:Fraser Suites\, 10 Adelaide Terrace\, East Perth\, Western Australia\, 6004
CATEGORIES:Conference
ATTACH;FMTTYPE=image/jpeg:https://shop.acxpa.com.au/wp-content/uploads/2023/06/Forum-General-scaled.jpg
ORGANIZER;CN="livepro":MAILTO:marketing@livepro.com
END:VEVENT
BEGIN:VEVENT
DTSTART;TZID=Australia/Melbourne:20230803T083000
DTEND;TZID=Australia/Melbourne:20230803T163000
DTSTAMP:20260422T084016
CREATED:20230727T235242Z
LAST-MODIFIED:20231113T095152Z
UID:10000170-1691051400-1691080200@shop.acxpa.com.au
SUMMARY:livepro Forum 2023 Adelaide
DESCRIPTION:livepro Forum 2023\nThe registrations for livepro Forums 2023 are now officially open! This year\, we’re taking the event to multiple locations across Australia\, creating an opportunity to connect face-to-face for the first time in a few years! \nWhether you are already a part of the livepro community or exploring livepro’s offerings\, we warmly welcome you to join us for the day to learn\, share\, and collaborate on everything livepro has to offer. We also encourage you to bring along your colleagues from other departments that might be interested in expanding livepro to their team. \nThe agenda:\nWe’ve crafted an engaging interactive agenda for the livepro Forums 2023! The day will include guest speakers from livepro specialists in industries such as Local Government\, superannuation\, and insurance. In addition\, there will be: \n\nA deep-dive into the livepro roadmap including the latest developments;\nNetworking activities and a chance to engage with industry professionals;\nKnowledge management best practice tips to optimise your CX results;\nAnnouncing the livepro Awards 2023 winners and their achievements;\nand a livepro panelist Q&A session to cover off all the hot topics from integrations\, AI tools\, and cyber security.\n\nWe can’t wait to see you in Sydney\, Brisbane\, Melbourne\, Adelaide\, and Perth\, so be sure to get in early by registering below: \nSydney – 26 July 2023\, Wednesday| Kirribilli Club\nBrisbane – 27 July 2023\, Thursday | Marriott\nMelbourne – 1 August 2023\, Tuesday | Collins Square Event Centre\nAdelaide – 3rd August 2023\, Thursday | Stamford Plaza\nPerth – 8 August 2023\, Tuesday | Fraser Suites \nLearn more and book via the link below.
URL:https://shop.acxpa.com.au/event/livepro-forum-2023-adelaide/
LOCATION:Stamford Plaza\, 150 North Terrace\, Adelaide\, South Australia\, 5000
CATEGORIES:Conference
ATTACH;FMTTYPE=image/jpeg:https://shop.acxpa.com.au/wp-content/uploads/2023/06/Forum-General-scaled.jpg
ORGANIZER;CN="livepro":MAILTO:marketing@livepro.com
END:VEVENT
BEGIN:VEVENT
DTSTART;TZID=Australia/Melbourne:20230801T083000
DTEND;TZID=Australia/Melbourne:20230801T163000
DTSTAMP:20260422T084016
CREATED:20230727T235048Z
LAST-MODIFIED:20231113T094748Z
UID:10000168-1690878600-1690907400@shop.acxpa.com.au
SUMMARY:livepro Forum 2023 Melbourne
DESCRIPTION:livepro Forum 2023\nThe registrations for livepro Forums 2023 are now officially open! This year\, we’re taking the event to multiple locations across Australia\, creating an opportunity to connect face-to-face for the first time in a few years! \nWhether you are already a part of the livepro community or exploring livepro’s offerings\, we warmly welcome you to join us for the day to learn\, share\, and collaborate on everything livepro has to offer. We also encourage you to bring along your colleagues from other departments that might be interested in expanding livepro to their team. \nThe agenda:\nWe’ve crafted an engaging interactive agenda for the livepro Forums 2023! The day will include guest speakers from livepro specialists in industries such as Local Government\, superannuation\, and insurance. In addition\, there will be: \n\nA deep-dive into the livepro roadmap including the latest developments;\nNetworking activities and a chance to engage with industry professionals;\nKnowledge management best practice tips to optimise your CX results;\nAnnouncing the livepro Awards 2023 winners and their achievements;\nand a livepro panelist Q&A session to cover off all the hot topics from integrations\, AI tools\, and cyber security.\n\nWe can’t wait to see you in Sydney\, Brisbane\, Melbourne\, Adelaide\, and Perth\, so be sure to get in early by registering below: \nSydney – 26 July 2023\, Wednesday| Kirribilli Club\nBrisbane – 27 July 2023\, Thursday | Marriott\nMelbourne – 1 August 2023\, Tuesday | Collins Square Event Centre\nAdelaide – 3rd August 2023\, Thursday | Stamford Plaza\nPerth – 8 August 2023\, Tuesday | Fraser Suites \nLearn more and book via the link below.
URL:https://shop.acxpa.com.au/event/livepro-forum-2023-melbourne/
LOCATION:Collins Square Event Centre\, Level 5\, Tower 2/727 Collins St\, Melbourne\, Victoria\, 3000
CATEGORIES:Conference
ATTACH;FMTTYPE=image/jpeg:https://shop.acxpa.com.au/wp-content/uploads/2023/06/Forum-General-scaled.jpg
ORGANIZER;CN="livepro":MAILTO:marketing@livepro.com
END:VEVENT
BEGIN:VEVENT
DTSTART;TZID=Australia/Melbourne:20230726T083000
DTEND;TZID=Australia/Melbourne:20230726T163000
DTSTAMP:20260422T084016
CREATED:20230615T140934Z
LAST-MODIFIED:20230615T140934Z
UID:10000134-1690360200-1690389000@shop.acxpa.com.au
SUMMARY:livepro Forum 2023
DESCRIPTION:livepro Forum 2023\nThe registrations for livepro Forums 2023 are now officially open! This year\, we’re taking the event to multiple locations across Australia\, creating an opportunity to connect face-to-face for the first time in a few years! \nWhether you are already a part of the livepro community or exploring livepro’s offerings\, we warmly welcome you to join us for the day to learn\, share\, and collaborate on everything livepro has to offer. We also encourage you to bring along your colleagues from other departments that might be interested in expanding livepro to their team. \nThe agenda:\nWe’ve crafted an engaging interactive agenda for the livepro Forums 2023! The day will include guest speakers from livepro specialists in industries such as Local Government\, superannuation\, and insurance. In addition\, there will be: \n\nA deep-dive into the livepro roadmap including the latest developments;\nNetworking activities and a chance to engage with industry professionals;\nKnowledge management best practice tips to optimise your CX results;\nAnnouncing the livepro Awards 2023 winners and their achievements;\nand a livepro panelist Q&A session to cover off all the hot topics from integrations\, AI tools\, and cyber security.\n\nWe can’t wait to see you in Sydney\, Brisbane\, Melbourne\, Adelaide\, and Perth\, so be sure to get in early by registering below: \nSydney – 26 July 2023\, Wednesday| Kirribilli Club\nBrisbane – 27 July 2023\, Thursday | Marriott\nMelbourne – 1 August 2023\, Tuesday | Collins Square Event Centre\nAdelaide – 3rd August 2023\, Thursday | Stamford Plaza\nPerth – 8 August 2023\, Tuesday | Fraser Suites \nLearn more and book via the link below.
URL:https://shop.acxpa.com.au/event/livepro-forum-2023/
LOCATION:Kirribilli Club\, 1 Harbourview Cres\, Lavender Bay\, NSW\, 2061\, Australia
CATEGORIES:Conference
ATTACH;FMTTYPE=image/jpeg:https://shop.acxpa.com.au/wp-content/uploads/2023/06/Forum-General-scaled.jpg
ORGANIZER;CN="livepro":MAILTO:marketing@livepro.com
END:VEVENT
END:VCALENDAR